Workbook

Sheet راهنما
B1: تبدیل تاریخ شمسی و میلادی
B2: تبدیل تاریخ شمسی به میلادی و برعکس با نام روز هفته، فاصلهٔ دو تاریخ شمسی و افزودن روز به تاریخ؛ همه با فرمول و بدون ماکرو.
B4: روش استفاده
A5: 1 | B5: تاریخ شمسی را در خانهٔ سبز به شکل ۱۴۰۵/۰۸/۰۵ وارد کنید.
A6: 2 | B6: برای تبدیل میلادی به شمسی، تاریخ میلادی را به شکل 2026/10/27 وارد کنید.
A7: 3 | B7: بازهٔ پشتیبانی: ۱۳۹۰/۰۱/۰۱ تا ۱۴۲۹/۱۲/۲۹؛ تاریخ نامعتبر یا نتیجهٔ خارج از بازه پیام خطا دارد.
B9: راهنمای رنگ‌ها
B10: خانه‌های سبز: ورودی؛ مقدار قابل تغییر
B11: خانه‌های خاکستری: نتیجه؛ با فرمول و قفل‌شده
B13: نسخهٔ آنلاین: تبدیل تاریخ شمسی و میلادی
B14: ابزارهای رایگان دیگر: hrfinance.xyz/tools
B16: تاریخ‌های شمسی با ارقام فارسی یا انگلیسی و به شکل ۱۴۰۵/۰۸/۰۵ وارد می‌شوند.

Sheet تبدیل تاریخ
A1: تبدیل تاریخ شمسی و میلادی
A2: خانه‌های سبز را تغییر دهید.
A4: شمسی به میلادی
A5: تاریخ شمسی | B5: 1405/08/05 | J5: =SUBSTITUTE(SUBSTITUTE(SUBSTITUTE(SUBSTITUTE(SUBSTITUTE(SUBSTITUTE(SUBSTITUTE(SUBSTITUTE(SUBSTITUTE(SUBSTITUTE(SUBSTITUTE(SUBSTITUTE(SUBSTITUTE(SUBSTITUTE(SUBSTITUTE(SUBSTITUTE(SUBSTITUTE(SUBSTITUTE(SUBSTITUTE(SUBSTITUTE(TRIM(B5&""),"۰","0"),"۱","1"),"۲","2"),"۳","3"),"۴","4"),"۵","5"),"۶","6"),"۷","7"),"۸","8"),"۹","9"),"٠","0"),"١","1"),"٢","2"),"٣","3"),"٤","4"),"٥","5"),"٦","6"),"٧","7"),"٨","8"),"٩","9") -> 1405/08/05 | K5: =IFERROR(VALUE(LEFT(J5,4)),"") -> 1405 | L5: =IFERROR(VALUE(MID(J5,6,2)),"") -> 8 | M5: =IFERROR(VALUE(RIGHT(J5,2)),"") -> 5 | N5: =IFERROR(IF(AND(LEN(J5)=10,MID(J5,5,1)="/",MID(J5,8,1)="/",J5=TEXT(K5,"0000")&"/"&TEXT(L5,"00")&"/"&TEXT(M5,"00"),K5>=1390,K5<=1429,L5>=1,L5<=12,M5>=1,M5<=IF(L5<=6,31,IF(L5<=11,30,VLOOKUP(K5+1,تقویم!$A$2:$B$42,2,0)-VLOOKUP(K5,تقویم!$A$2:$B$42,2,0)-336))),VLOOKUP(K5,تقویم!$A$2:$B$42,2,0)+IF(L5<=6,(L5-1)*31,186+(L5-7)*30)+M5-1,""),"") -> 46322
A6: تاریخ میلادی | B6: =IF(ISNUMBER(N5),N5,"تاریخ نامعتبر") -> 46322
A7: روز هفته | B7: =IF(ISNUMBER(N5),CHOOSE(WEEKDAY((N5),1),"یکشنبه","دوشنبه","سه‌شنبه","چهارشنبه","پنجشنبه","جمعه","شنبه"),"") -> سه‌شنبه
A9: میلادی به شمسی
A10: تاریخ میلادی | B10: 46322
A11: تاریخ شمسی | B11: =IFERROR(IF(AND(ISNUMBER(B10),B10=INT(B10),B10>=تقویم!$B$2,B10<تقویم!$B$42),LOOKUP((B10),تقویم!$B$2:$B$42,تقویم!$A$2:$A$42)&"/"&TEXT(IF(((B10)-VLOOKUP(LOOKUP((B10),تقویم!$B$2:$B$42,تقویم!$A$2:$A$42),تقویم!$A$2:$B$42,2,0))<186,INT(((B10)-VLOOKUP(LOOKUP((B10),تقویم!$B$2:$B$42,تقویم!$A$2:$A$42),تقویم!$A$2:$B$42,2,0))/31)+1,INT((((B10)-VLOOKUP(LOOKUP((B10),تقویم!$B$2:$B$42,تقویم!$A$2:$A$42),تقویم!$A$2:$B$42,2,0))-186)/30)+7),"00")&"/"&TEXT(IF(((B10)-VLOOKUP(LOOKUP((B10),تقویم!$B$2:$B$42,تقویم!$A$2:$A$42),تقویم!$A$2:$B$42,2,0))<186,MOD(((B10)-VLOOKUP(LOOKUP((B10),تقویم!$B$2:$B$42,تقویم!$A$2:$A$42),تقویم!$A$2:$B$42,2,0)),31)+1,MOD(((B10)-VLOOKUP(LOOKUP((B10),تقویم!$B$2:$B$42,تقویم!$A$2:$A$42),تقویم!$A$2:$B$42,2,0))-186,30)+1),"00"),"تاریخ نامعتبر"),"تاریخ نامعتبر") -> 1405/08/05
A12: روز هفته | B12: =IFERROR(IF(AND(ISNUMBER(B10),B10=INT(B10),B10>=تقویم!$B$2,B10<تقویم!$B$42),CHOOSE(WEEKDAY((B10),1),"یکشنبه","دوشنبه","سه‌شنبه","چهارشنبه","پنجشنبه","جمعه","شنبه"),""),"") -> سه‌شنبه
A14: فاصلهٔ دو تاریخ شمسی
A15: از تاریخ | B15: 1405/08/05 | J15: =SUBSTITUTE(SUBSTITUTE(SUBSTITUTE(SUBSTITUTE(SUBSTITUTE(SUBSTITUTE(SUBSTITUTE(SUBSTITUTE(SUBSTITUTE(SUBSTITUTE(SUBSTITUTE(SUBSTITUTE(SUBSTITUTE(SUBSTITUTE(SUBSTITUTE(SUBSTITUTE(SUBSTITUTE(SUBSTITUTE(SUBSTITUTE(SUBSTITUTE(TRIM(B15&""),"۰","0"),"۱","1"),"۲","2"),"۳","3"),"۴","4"),"۵","5"),"۶","6"),"۷","7"),"۸","8"),"۹","9"),"٠","0"),"١","1"),"٢","2"),"٣","3"),"٤","4"),"٥","5"),"٦","6"),"٧","7"),"٨","8"),"٩","9") -> 1405/08/05 | K15: =IFERROR(VALUE(LEFT(J15,4)),"") -> 1405 | L15: =IFERROR(VALUE(MID(J15,6,2)),"") -> 8 | M15: =IFERROR(VALUE(RIGHT(J15,2)),"") -> 5 | N15: =IFERROR(IF(AND(LEN(J15)=10,MID(J15,5,1)="/",MID(J15,8,1)="/",J15=TEXT(K15,"0000")&"/"&TEXT(L15,"00")&"/"&TEXT(M15,"00"),K15>=1390,K15<=1429,L15>=1,L15<=12,M15>=1,M15<=IF(L15<=6,31,IF(L15<=11,30,VLOOKUP(K15+1,تقویم!$A$2:$B$42,2,0)-VLOOKUP(K15,تقویم!$A$2:$B$42,2,0)-336))),VLOOKUP(K15,تقویم!$A$2:$B$42,2,0)+IF(L15<=6,(L15-1)*31,186+(L15-7)*30)+M15-1,""),"") -> 46322
A16: تا تاریخ | B16: 1406/01/01 | J16: =SUBSTITUTE(SUBSTITUTE(SUBSTITUTE(SUBSTITUTE(SUBSTITUTE(SUBSTITUTE(SUBSTITUTE(SUBSTITUTE(SUBSTITUTE(SUBSTITUTE(SUBSTITUTE(SUBSTITUTE(SUBSTITUTE(SUBSTITUTE(SUBSTITUTE(SUBSTITUTE(SUBSTITUTE(SUBSTITUTE(SUBSTITUTE(SUBSTITUTE(TRIM(B16&""),"۰","0"),"۱","1"),"۲","2"),"۳","3"),"۴","4"),"۵","5"),"۶","6"),"۷","7"),"۸","8"),"۹","9"),"٠","0"),"١","1"),"٢","2"),"٣","3"),"٤","4"),"٥","5"),"٦","6"),"٧","7"),"٨","8"),"٩","9") -> 1406/01/01 | K16: =IFERROR(VALUE(LEFT(J16,4)),"") -> 1406 | L16: =IFERROR(VALUE(MID(J16,6,2)),"") -> 1 | M16: =IFERROR(VALUE(RIGHT(J16,2)),"") -> 1 | N16: =IFERROR(IF(AND(LEN(J16)=10,MID(J16,5,1)="/",MID(J16,8,1)="/",J16=TEXT(K16,"0000")&"/"&TEXT(L16,"00")&"/"&TEXT(M16,"00"),K16>=1390,K16<=1429,L16>=1,L16<=12,M16>=1,M16<=IF(L16<=6,31,IF(L16<=11,30,VLOOKUP(K16+1,تقویم!$A$2:$B$42,2,0)-VLOOKUP(K16,تقویم!$A$2:$B$42,2,0)-336))),VLOOKUP(K16,تقویم!$A$2:$B$42,2,0)+IF(L16<=6,(L16-1)*31,186+(L16-7)*30)+M16-1,""),"") -> 46467
A17: تعداد روز | B17: =IF(AND(ISNUMBER(N15),ISNUMBER(N16)),N16-N15,"تاریخ نامعتبر") -> 145
A19: افزودن روز به تاریخ شمسی
A20: تاریخ شمسی | B20: 1405/08/05 | J20: =SUBSTITUTE(SUBSTITUTE(SUBSTITUTE(SUBSTITUTE(SUBSTITUTE(SUBSTITUTE(SUBSTITUTE(SUBSTITUTE(SUBSTITUTE(SUBSTITUTE(SUBSTITUTE(SUBSTITUTE(SUBSTITUTE(SUBSTITUTE(SUBSTITUTE(SUBSTITUTE(SUBSTITUTE(SUBSTITUTE(SUBSTITUTE(SUBSTITUTE(TRIM(B20&""),"۰","0"),"۱","1"),"۲","2"),"۳","3"),"۴","4"),"۵","5"),"۶","6"),"۷","7"),"۸","8"),"۹","9"),"٠","0"),"١","1"),"٢","2"),"٣","3"),"٤","4"),"٥","5"),"٦","6"),"٧","7"),"٨","8"),"٩","9") -> 1405/08/05 | K20: =IFERROR(VALUE(LEFT(J20,4)),"") -> 1405 | L20: =IFERROR(VALUE(MID(J20,6,2)),"") -> 8 | M20: =IFERROR(VALUE(RIGHT(J20,2)),"") -> 5 | N20: =IFERROR(IF(AND(LEN(J20)=10,MID(J20,5,1)="/",MID(J20,8,1)="/",J20=TEXT(K20,"0000")&"/"&TEXT(L20,"00")&"/"&TEXT(M20,"00"),K20>=1390,K20<=1429,L20>=1,L20<=12,M20>=1,M20<=IF(L20<=6,31,IF(L20<=11,30,VLOOKUP(K20+1,تقویم!$A$2:$B$42,2,0)-VLOOKUP(K20,تقویم!$A$2:$B$42,2,0)-336))),VLOOKUP(K20,تقویم!$A$2:$B$42,2,0)+IF(L20<=6,(L20-1)*31,186+(L20-7)*30)+M20-1,""),"") -> 46322
A21: تعداد روز (منفی برای کاستن) | B21: 90
A22: تاریخ نتیجه | B22: =IFERROR(IF(AND(ISNUMBER(N20),ISNUMBER(B21),B21=INT(B21),AND(ISNUMBER(N20+B21),N20+B21=INT(N20+B21),N20+B21>=تقویم!$B$2,N20+B21<تقویم!$B$42)),LOOKUP((N20+B21),تقویم!$B$2:$B$42,تقویم!$A$2:$A$42)&"/"&TEXT(IF(((N20+B21)-VLOOKUP(LOOKUP((N20+B21),تقویم!$B$2:$B$42,تقویم!$A$2:$A$42),تقویم!$A$2:$B$42,2,0))<186,INT(((N20+B21)-VLOOKUP(LOOKUP((N20+B21),تقویم!$B$2:$B$42,تقویم!$A$2:$A$42),تقویم!$A$2:$B$42,2,0))/31)+1,INT((((N20+B21)-VLOOKUP(LOOKUP((N20+B21),تقویم!$B$2:$B$42,تقویم!$A$2:$A$42),تقویم!$A$2:$B$42,2,0))-186)/30)+7),"00")&"/"&TEXT(IF(((N20+B21)-VLOOKUP(LOOKUP((N20+B21),تقویم!$B$2:$B$42,تقویم!$A$2:$A$42),تقویم!$A$2:$B$42,2,0))<186,MOD(((N20+B21)-VLOOKUP(LOOKUP((N20+B21),تقویم!$B$2:$B$42,تقویم!$A$2:$A$42),تقویم!$A$2:$B$42,2,0)),31)+1,MOD(((N20+B21)-VLOOKUP(LOOKUP((N20+B21),تقویم!$B$2:$B$42,تقویم!$A$2:$A$42),تقویم!$A$2:$B$42,2,0))-186,30)+1),"00"),"تاریخ یا تعداد روز نامعتبر"),"تاریخ یا تعداد روز نامعتبر") -> 1405/11/05
A23: روز هفته | B23: =IFERROR(IF(AND(ISNUMBER(N20),ISNUMBER(B21),B21=INT(B21),AND(ISNUMBER(N20+B21),N20+B21=INT(N20+B21),N20+B21>=تقویم!$B$2,N20+B21<تقویم!$B$42)),CHOOSE(WEEKDAY((N20+B21),1),"یکشنبه","دوشنبه","سه‌شنبه","چهارشنبه","پنجشنبه","جمعه","شنبه"),""),"") -> دوشنبه
A26: تهیه‌شده در hrfinance.xyz
A27: نسخهٔ آنلاین: تبدیل تاریخ

Sheet تقویم
A1: سال | B1: ۱ فروردین (میلادی) | D1: جدول کمکی تبدیل تاریخ؛ تغییر ندهید.
A2: 1390 | B2: 40623 | D2: سال ۱۴۳۰ فقط مرز پایان محاسبات است؛ بازهٔ ورودی ۱۳۹۰ تا ۱۴۲۹.
A3: 1391 | B3: 40988
A4: 1392 | B4: 41354
A5: 1393 | B5: 41719
A6: 1394 | B6: 42084
A7: 1395 | B7: 42449
A8: 1396 | B8: 42815
A9: 1397 | B9: 43180
A10: 1398 | B10: 43545
A11: 1399 | B11: 43910
A12: 1400 | B12: 44276
A13: 1401 | B13: 44641
A14: 1402 | B14: 45006
... A42: 1430 | B42: 55233
