Workbook

Sheet راهنما
B1: تبدیل عدد به حروف
B2: تبدیل مبلغ به حروف فارسی با فرمول و بدون ماکرو، به ریال و تومان؛ تا ۱۵ رقم. مناسب فاکتور، چک، رسید و قرارداد.
B4: روش استفاده
A5: 1 | B5: مبلغ را به‌صورت عدد صحیح غیرمنفی و حداکثر ۱۵رقمی وارد کنید. عدد منفی، اعشاری و متن پذیرفته نمی‌شود.
A6: 2 | B6: برای چند مبلغ، از جدول ۲۰ ردیفی پایین همان برگه استفاده کنید.
A7: 3 | B7: برای استفاده در فایل دیگر، برگهٔ مخفی «واژه‌ها» را همراه فرمول کپی کنید (راست‌کلیک روی برگه‌ها، Unhide).
B9: راهنمای رنگ‌ها
B10: خانه‌های سبز: ورودی؛ مقدار قابل تغییر
B11: خانه‌های خاکستری: نتیجه؛ با فرمول و قفل‌شده
B13: نسخهٔ آنلاین: تبدیل عدد به حروف
B14: آموزش: تبدیل عدد به حروف در اکسل
B15: ابزارهای رایگان دیگر: hrfinance.xyz/tools
B17: تاریخ‌های شمسی با ارقام فارسی یا انگلیسی و به شکل ۱۴۰۵/۰۸/۰۵ وارد می‌شوند.

Sheet تبدیل
A1: تبدیل عدد به حروف
A2: خانه‌های سبز را تغییر دهید.
A4: مبلغ (ریال) | C4: 1250000000
A5: به حروف (ریال) | C5: =IF(LEN(C4&"")=0,"",IF(NOT(ISNUMBER(C4)),"عدد نامعتبر",IF(OR(C4<0,C4>999999999999999,C4<>INT(C4)),"عدد صحیح ۰ تا ۱۵ رقم وارد کنید",IF(INT(C4)=0,"صفر",MID(IF(MOD(INT((C4)/1000000000000),1000)>0," و "&VLOOKUP(MOD(INT((C4)/1000000000000),1000),'واژه‌ها'!$A$2:$B$1001,2,0)&" تریلیون","")&IF(MOD(INT((C4)/1000000000),1000)>0," و "&VLOOKUP(MOD(INT((C4)/1000000000),1000),'واژه‌ها'!$A$2:$B$1001,2,0)&" میلیارد","")&IF(MOD(INT((C4)/1000000),1000)>0," و "&VLOOKUP(MOD(INT((C4)/1000000),1000),'واژه‌ها'!$A$2:$B$1001,2,0)&" میلیون","")&IF(MOD(INT((C4)/1000),1000)>0," و "&VLOOKUP(MOD(INT((C4)/1000),1000),'واژه‌ها'!$A$2:$B$1001,2,0)&" هزار","")&IF(MOD(INT((C4)/1),1000)>0," و "&VLOOKUP(MOD(INT((C4)/1),1000),'واژه‌ها'!$A$2:$B$1001,2,0)&"",""),4,1000))&" ریال"))) -> یک میلیارد و دویست و پنجاه میلیون ریال
A6: به حروف (تومان) | C6: =IF(LEN(C4&"")=0,"",IF(NOT(ISNUMBER(C4)),"عدد نامعتبر",IF(OR(C4<0,C4>999999999999999,C4<>INT(C4)),"عدد صحیح ۰ تا ۱۵ رقم وارد کنید",IF(INT(C4/10)=0,"صفر",MID(IF(MOD(INT((C4/10)/1000000000000),1000)>0," و "&VLOOKUP(MOD(INT((C4/10)/1000000000000),1000),'واژه‌ها'!$A$2:$B$1001,2,0)&" تریلیون","")&IF(MOD(INT((C4/10)/1000000000),1000)>0," و "&VLOOKUP(MOD(INT((C4/10)/1000000000),1000),'واژه‌ها'!$A$2:$B$1001,2,0)&" میلیارد","")&IF(MOD(INT((C4/10)/1000000),1000)>0," و "&VLOOKUP(MOD(INT((C4/10)/1000000),1000),'واژه‌ها'!$A$2:$B$1001,2,0)&" میلیون","")&IF(MOD(INT((C4/10)/1000),1000)>0," و "&VLOOKUP(MOD(INT((C4/10)/1000),1000),'واژه‌ها'!$A$2:$B$1001,2,0)&" هزار","")&IF(MOD(INT((C4/10)/1),1000)>0," و "&VLOOKUP(MOD(INT((C4/10)/1),1000),'واژه‌ها'!$A$2:$B$1001,2,0)&"",""),4,1000))&" تومان"&IF(MOD(C4,10)<>0," (رقم یکان ریال حذف شده)","")))) -> یکصد و بیست و پنج میلیون تومان
A8: ردیف | B8: مبلغ (ریال) | C8: به حروف
A9: 1 | B9: 105 | C9: =IF(LEN(B9&"")=0,"",IF(NOT(ISNUMBER(B9)),"عدد نامعتبر",IF(OR(B9<0,B9>999999999999999,B9<>INT(B9)),"عدد صحیح ۰ تا ۱۵ رقم وارد کنید",IF(INT(B9)=0,"صفر",MID(IF(MOD(INT((B9)/1000000000000),1000)>0," و "&VLOOKUP(MOD(INT((B9)/1000000000000),1000),'واژه‌ها'!$A$2:$B$1001,2,0)&" تریلیون","")&IF(MOD(INT((B9)/1000000000),1000)>0," و "&VLOOKUP(MOD(INT((B9)/1000000000),1000),'واژه‌ها'!$A$2:$B$1001,2,0)&" میلیارد","")&IF(MOD(INT((B9)/1000000),1000)>0," و "&VLOOKUP(MOD(INT((B9)/1000000),1000),'واژه‌ها'!$A$2:$B$1001,2,0)&" میلیون","")&IF(MOD(INT((B9)/1000),1000)>0," و "&VLOOKUP(MOD(INT((B9)/1000),1000),'واژه‌ها'!$A$2:$B$1001,2,0)&" هزار","")&IF(MOD(INT((B9)/1),1000)>0," و "&VLOOKUP(MOD(INT((B9)/1),1000),'واژه‌ها'!$A$2:$B$1001,2,0)&"",""),4,1000))))) -> یکصد و پنج
A10: 2 | B10: 200019 | C10: =IF(LEN(B10&"")=0,"",IF(NOT(ISNUMBER(B10)),"عدد نامعتبر",IF(OR(B10<0,B10>999999999999999,B10<>INT(B10)),"عدد صحیح ۰ تا ۱۵ رقم وارد کنید",IF(INT(B10)=0,"صفر",MID(IF(MOD(INT((B10)/1000000000000),1000)>0," و "&VLOOKUP(MOD(INT((B10)/1000000000000),1000),'واژه‌ها'!$A$2:$B$1001,2,0)&" تریلیون","")&IF(MOD(INT((B10)/1000000000),1000)>0," و "&VLOOKUP(MOD(INT((B10)/1000000000),1000),'واژه‌ها'!$A$2:$B$1001,2,0)&" میلیارد","")&IF(MOD(INT((B10)/1000000),1000)>0," و "&VLOOKUP(MOD(INT((B10)/1000000),1000),'واژه‌ها'!$A$2:$B$1001,2,0)&" میلیون","")&IF(MOD(INT((B10)/1000),1000)>0," و "&VLOOKUP(MOD(INT((B10)/1000),1000),'واژه‌ها'!$A$2:$B$1001,2,0)&" هزار","")&IF(MOD(INT((B10)/1),1000)>0," و "&VLOOKUP(MOD(INT((B10)/1),1000),'واژه‌ها'!$A$2:$B$1001,2,0)&"",""),4,1000))))) -> دویست هزار و نوزده
A11: 3 | B11: 1500000 | C11: =IF(LEN(B11&"")=0,"",IF(NOT(ISNUMBER(B11)),"عدد نامعتبر",IF(OR(B11<0,B11>999999999999999,B11<>INT(B11)),"عدد صحیح ۰ تا ۱۵ رقم وارد کنید",IF(INT(B11)=0,"صفر",MID(IF(MOD(INT((B11)/1000000000000),1000)>0," و "&VLOOKUP(MOD(INT((B11)/1000000000000),1000),'واژه‌ها'!$A$2:$B$1001,2,0)&" تریلیون","")&IF(MOD(INT((B11)/1000000000),1000)>0," و "&VLOOKUP(MOD(INT((B11)/1000000000),1000),'واژه‌ها'!$A$2:$B$1001,2,0)&" میلیارد","")&IF(MOD(INT((B11)/1000000),1000)>0," و "&VLOOKUP(MOD(INT((B11)/1000000),1000),'واژه‌ها'!$A$2:$B$1001,2,0)&" میلیون","")&IF(MOD(INT((B11)/1000),1000)>0," و "&VLOOKUP(MOD(INT((B11)/1000),1000),'واژه‌ها'!$A$2:$B$1001,2,0)&" هزار","")&IF(MOD(INT((B11)/1),1000)>0," و "&VLOOKUP(MOD(INT((B11)/1),1000),'واژه‌ها'!$A$2:$B$1001,2,0)&"",""),4,1000))))) -> یک میلیون و پانصد هزار
A12: 4 | B12: 12000050 | C12: =IF(LEN(B12&"")=0,"",IF(NOT(ISNUMBER(B12)),"عدد نامعتبر",IF(OR(B12<0,B12>999999999999999,B12<>INT(B12)),"عدد صحیح ۰ تا ۱۵ رقم وارد کنید",IF(INT(B12)=0,"صفر",MID(IF(MOD(INT((B12)/1000000000000),1000)>0," و "&VLOOKUP(MOD(INT((B12)/1000000000000),1000),'واژه‌ها'!$A$2:$B$1001,2,0)&" تریلیون","")&IF(MOD(INT((B12)/1000000000),1000)>0," و "&VLOOKUP(MOD(INT((B12)/1000000000),1000),'واژه‌ها'!$A$2:$B$1001,2,0)&" میلیارد","")&IF(MOD(INT((B12)/1000000),1000)>0," و "&VLOOKUP(MOD(INT((B12)/1000000),1000),'واژه‌ها'!$A$2:$B$1001,2,0)&" میلیون","")&IF(MOD(INT((B12)/1000),1000)>0," و "&VLOOKUP(MOD(INT((B12)/1000),1000),'واژه‌ها'!$A$2:$B$1001,2,0)&" هزار","")&IF(MOD(INT((B12)/1),1000)>0," و "&VLOOKUP(MOD(INT((B12)/1),1000),'واژه‌ها'!$A$2:$B$1001,2,0)&"",""),4,1000))))) -> دوازده میلیون و پنجاه
A13: 5 | B13: 87654321 | C13: =IF(LEN(B13&"")=0,"",IF(NOT(ISNUMBER(B13)),"عدد نامعتبر",IF(OR(B13<0,B13>999999999999999,B13<>INT(B13)),"عدد صحیح ۰ تا ۱۵ رقم وارد کنید",IF(INT(B13)=0,"صفر",MID(IF(MOD(INT((B13)/1000000000000),1000)>0," و "&VLOOKUP(MOD(INT((B13)/1000000000000),1000),'واژه‌ها'!$A$2:$B$1001,2,0)&" تریلیون","")&IF(MOD(INT((B13)/1000000000),1000)>0," و "&VLOOKUP(MOD(INT((B13)/1000000000),1000),'واژه‌ها'!$A$2:$B$1001,2,0)&" میلیارد","")&IF(MOD(INT((B13)/1000000),1000)>0," و "&VLOOKUP(MOD(INT((B13)/1000000),1000),'واژه‌ها'!$A$2:$B$1001,2,0)&" میلیون","")&IF(MOD(INT((B13)/1000),1000)>0," و "&VLOOKUP(MOD(INT((B13)/1000),1000),'واژه‌ها'!$A$2:$B$1001,2,0)&" هزار","")&IF(MOD(INT((B13)/1),1000)>0," و "&VLOOKUP(MOD(INT((B13)/1),1000),'واژه‌ها'!$A$2:$B$1001,2,0)&"",""),4,1000))))) -> هشتاد و هفت میلیون و ششصد و پنجاه و چهار هزار و سیصد و بیست و یک
A14: 6 | B14: 3000000000 | C14: =IF(LEN(B14&"")=0,"",IF(NOT(ISNUMBER(B14)),"عدد نامعتبر",IF(OR(B14<0,B14>999999999999999,B14<>INT(B14)),"عدد صحیح ۰ تا ۱۵ رقم وارد کنید",IF(INT(B14)=0,"صفر",MID(IF(MOD(INT((B14)/1000000000000),1000)>0," و "&VLOOKUP(MOD(INT((B14)/1000000000000),1000),'واژه‌ها'!$A$2:$B$1001,2,0)&" تریلیون","")&IF(MOD(INT((B14)/1000000000),1000)>0," و "&VLOOKUP(MOD(INT((B14)/1000000000),1000),'واژه‌ها'!$A$2:$B$1001,2,0)&" میلیارد","")&IF(MOD(INT((B14)/1000000),1000)>0," و "&VLOOKUP(MOD(INT((B14)/1000000),1000),'واژه‌ها'!$A$2:$B$1001,2,0)&" میلیون","")&IF(MOD(INT((B14)/1000),1000)>0," و "&VLOOKUP(MOD(INT((B14)/1000),1000),'واژه‌ها'!$A$2:$B$1001,2,0)&" هزار","")&IF(MOD(INT((B14)/1),1000)>0," و "&VLOOKUP(MOD(INT((B14)/1),1000),'واژه‌ها'!$A$2:$B$1001,2,0)&"",""),4,1000))))) -> سه میلیارد
A15: 7 | C15: =IF(LEN(B15&"")=0,"",IF(NOT(ISNUMBER(B15)),"عدد نامعتبر",IF(OR(B15<0,B15>999999999999999,B15<>INT(B15)),"عدد صحیح ۰ تا ۱۵ رقم وارد کنید",IF(INT(B15)=0,"صفر",MID(IF(MOD(INT((B15)/1000000000000),1000)>0," و "&VLOOKUP(MOD(INT((B15)/1000000000000),1000),'واژه‌ها'!$A$2:$B$1001,2,0)&" تریلیون","")&IF(MOD(INT((B15)/1000000000),1000)>0," و "&VLOOKUP(MOD(INT((B15)/1000000000),1000),'واژه‌ها'!$A$2:$B$1001,2,0)&" میلیارد","")&IF(MOD(INT((B15)/1000000),1000)>0," و "&VLOOKUP(MOD(INT((B15)/1000000),1000),'واژه‌ها'!$A$2:$B$1001,2,0)&" میلیون","")&IF(MOD(INT((B15)/1000),1000)>0," و "&VLOOKUP(MOD(INT((B15)/1000),1000),'واژه‌ها'!$A$2:$B$1001,2,0)&" هزار","")&IF(MOD(INT((B15)/1),1000)>0," و "&VLOOKUP(MOD(INT((B15)/1),1000),'واژه‌ها'!$A$2:$B$1001,2,0)&"",""),4,1000)))))
A16: 8 | C16: =IF(LEN(B16&"")=0,"",IF(NOT(ISNUMBER(B16)),"عدد نامعتبر",IF(OR(B16<0,B16>999999999999999,B16<>INT(B16)),"عدد صحیح ۰ تا ۱۵ رقم وارد کنید",IF(INT(B16)=0,"صفر",MID(IF(MOD(INT((B16)/1000000000000),1000)>0," و "&VLOOKUP(MOD(INT((B16)/1000000000000),1000),'واژه‌ها'!$A$2:$B$1001,2,0)&" تریلیون","")&IF(MOD(INT((B16)/1000000000),1000)>0," و "&VLOOKUP(MOD(INT((B16)/1000000000),1000),'واژه‌ها'!$A$2:$B$1001,2,0)&" میلیارد","")&IF(MOD(INT((B16)/1000000),1000)>0," و "&VLOOKUP(MOD(INT((B16)/1000000),1000),'واژه‌ها'!$A$2:$B$1001,2,0)&" میلیون","")&IF(MOD(INT((B16)/1000),1000)>0," و "&VLOOKUP(MOD(INT((B16)/1000),1000),'واژه‌ها'!$A$2:$B$1001,2,0)&" هزار","")&IF(MOD(INT((B16)/1),1000)>0," و "&VLOOKUP(MOD(INT((B16)/1),1000),'واژه‌ها'!$A$2:$B$1001,2,0)&"",""),4,1000)))))
A17: 9 | C17: =IF(LEN(B17&"")=0,"",IF(NOT(ISNUMBER(B17)),"عدد نامعتبر",IF(OR(B17<0,B17>999999999999999,B17<>INT(B17)),"عدد صحیح ۰ تا ۱۵ رقم وارد کنید",IF(INT(B17)=0,"صفر",MID(IF(MOD(INT((B17)/1000000000000),1000)>0," و "&VLOOKUP(MOD(INT((B17)/1000000000000),1000),'واژه‌ها'!$A$2:$B$1001,2,0)&" تریلیون","")&IF(MOD(INT((B17)/1000000000),1000)>0," و "&VLOOKUP(MOD(INT((B17)/1000000000),1000),'واژه‌ها'!$A$2:$B$1001,2,0)&" میلیارد","")&IF(MOD(INT((B17)/1000000),1000)>0," و "&VLOOKUP(MOD(INT((B17)/1000000),1000),'واژه‌ها'!$A$2:$B$1001,2,0)&" میلیون","")&IF(MOD(INT((B17)/1000),1000)>0," و "&VLOOKUP(MOD(INT((B17)/1000),1000),'واژه‌ها'!$A$2:$B$1001,2,0)&" هزار","")&IF(MOD(INT((B17)/1),1000)>0," و "&VLOOKUP(MOD(INT((B17)/1),1000),'واژه‌ها'!$A$2:$B$1001,2,0)&"",""),4,1000)))))
A18: 10 | C18: =IF(LEN(B18&"")=0,"",IF(NOT(ISNUMBER(B18)),"عدد نامعتبر",IF(OR(B18<0,B18>999999999999999,B18<>INT(B18)),"عدد صحیح ۰ تا ۱۵ رقم وارد کنید",IF(INT(B18)=0,"صفر",MID(IF(MOD(INT((B18)/1000000000000),1000)>0," و "&VLOOKUP(MOD(INT((B18)/1000000000000),1000),'واژه‌ها'!$A$2:$B$1001,2,0)&" تریلیون","")&IF(MOD(INT((B18)/1000000000),1000)>0," و "&VLOOKUP(MOD(INT((B18)/1000000000),1000),'واژه‌ها'!$A$2:$B$1001,2,0)&" میلیارد","")&IF(MOD(INT((B18)/1000000),1000)>0," و "&VLOOKUP(MOD(INT((B18)/1000000),1000),'واژه‌ها'!$A$2:$B$1001,2,0)&" میلیون","")&IF(MOD(INT((B18)/1000),1000)>0," و "&VLOOKUP(MOD(INT((B18)/1000),1000),'واژه‌ها'!$A$2:$B$1001,2,0)&" هزار","")&IF(MOD(INT((B18)/1),1000)>0," و "&VLOOKUP(MOD(INT((B18)/1),1000),'واژه‌ها'!$A$2:$B$1001,2,0)&"",""),4,1000)))))
A19: 11 | C19: =IF(LEN(B19&"")=0,"",IF(NOT(ISNUMBER(B19)),"عدد نامعتبر",IF(OR(B19<0,B19>999999999999999,B19<>INT(B19)),"عدد صحیح ۰ تا ۱۵ رقم وارد کنید",IF(INT(B19)=0,"صفر",MID(IF(MOD(INT((B19)/1000000000000),1000)>0," و "&VLOOKUP(MOD(INT((B19)/1000000000000),1000),'واژه‌ها'!$A$2:$B$1001,2,0)&" تریلیون","")&IF(MOD(INT((B19)/1000000000),1000)>0," و "&VLOOKUP(MOD(INT((B19)/1000000000),1000),'واژه‌ها'!$A$2:$B$1001,2,0)&" میلیارد","")&IF(MOD(INT((B19)/1000000),1000)>0," و "&VLOOKUP(MOD(INT((B19)/1000000),1000),'واژه‌ها'!$A$2:$B$1001,2,0)&" میلیون","")&IF(MOD(INT((B19)/1000),1000)>0," و "&VLOOKUP(MOD(INT((B19)/1000),1000),'واژه‌ها'!$A$2:$B$1001,2,0)&" هزار","")&IF(MOD(INT((B19)/1),1000)>0," و "&VLOOKUP(MOD(INT((B19)/1),1000),'واژه‌ها'!$A$2:$B$1001,2,0)&"",""),4,1000)))))
A20: 12 | C20: =IF(LEN(B20&"")=0,"",IF(NOT(ISNUMBER(B20)),"عدد نامعتبر",IF(OR(B20<0,B20>999999999999999,B20<>INT(B20)),"عدد صحیح ۰ تا ۱۵ رقم وارد کنید",IF(INT(B20)=0,"صفر",MID(IF(MOD(INT((B20)/1000000000000),1000)>0," و "&VLOOKUP(MOD(INT((B20)/1000000000000),1000),'واژه‌ها'!$A$2:$B$1001,2,0)&" تریلیون","")&IF(MOD(INT((B20)/1000000000),1000)>0," و "&VLOOKUP(MOD(INT((B20)/1000000000),1000),'واژه‌ها'!$A$2:$B$1001,2,0)&" میلیارد","")&IF(MOD(INT((B20)/1000000),1000)>0," و "&VLOOKUP(MOD(INT((B20)/1000000),1000),'واژه‌ها'!$A$2:$B$1001,2,0)&" میلیون","")&IF(MOD(INT((B20)/1000),1000)>0," و "&VLOOKUP(MOD(INT((B20)/1000),1000),'واژه‌ها'!$A$2:$B$1001,2,0)&" هزار","")&IF(MOD(INT((B20)/1),1000)>0," و "&VLOOKUP(MOD(INT((B20)/1),1000),'واژه‌ها'!$A$2:$B$1001,2,0)&"",""),4,1000)))))
A21: 13 | C21: =IF(LEN(B21&"")=0,"",IF(NOT(ISNUMBER(B21)),"عدد نامعتبر",IF(OR(B21<0,B21>999999999999999,B21<>INT(B21)),"عدد صحیح ۰ تا ۱۵ رقم وارد کنید",IF(INT(B21)=0,"صفر",MID(IF(MOD(INT((B21)/1000000000000),1000)>0," و "&VLOOKUP(MOD(INT((B21)/1000000000000),1000),'واژه‌ها'!$A$2:$B$1001,2,0)&" تریلیون","")&IF(MOD(INT((B21)/1000000000),1000)>0," و "&VLOOKUP(MOD(INT((B21)/1000000000),1000),'واژه‌ها'!$A$2:$B$1001,2,0)&" میلیارد","")&IF(MOD(INT((B21)/1000000),1000)>0," و "&VLOOKUP(MOD(INT((B21)/1000000),1000),'واژه‌ها'!$A$2:$B$1001,2,0)&" میلیون","")&IF(MOD(INT((B21)/1000),1000)>0," و "&VLOOKUP(MOD(INT((B21)/1000),1000),'واژه‌ها'!$A$2:$B$1001,2,0)&" هزار","")&IF(MOD(INT((B21)/1),1000)>0," و "&VLOOKUP(MOD(INT((B21)/1),1000),'واژه‌ها'!$A$2:$B$1001,2,0)&"",""),4,1000)))))
A22: 14 | C22: =IF(LEN(B22&"")=0,"",IF(NOT(ISNUMBER(B22)),"عدد نامعتبر",IF(OR(B22<0,B22>999999999999999,B22<>INT(B22)),"عدد صحیح ۰ تا ۱۵ رقم وارد کنید",IF(INT(B22)=0,"صفر",MID(IF(MOD(INT((B22)/1000000000000),1000)>0," و "&VLOOKUP(MOD(INT((B22)/1000000000000),1000),'واژه‌ها'!$A$2:$B$1001,2,0)&" تریلیون","")&IF(MOD(INT((B22)/1000000000),1000)>0," و "&VLOOKUP(MOD(INT((B22)/1000000000),1000),'واژه‌ها'!$A$2:$B$1001,2,0)&" میلیارد","")&IF(MOD(INT((B22)/1000000),1000)>0," و "&VLOOKUP(MOD(INT((B22)/1000000),1000),'واژه‌ها'!$A$2:$B$1001,2,0)&" میلیون","")&IF(MOD(INT((B22)/1000),1000)>0," و "&VLOOKUP(MOD(INT((B22)/1000),1000),'واژه‌ها'!$A$2:$B$1001,2,0)&" هزار","")&IF(MOD(INT((B22)/1),1000)>0," و "&VLOOKUP(MOD(INT((B22)/1),1000),'واژه‌ها'!$A$2:$B$1001,2,0)&"",""),4,1000)))))
A23: 15 | C23: =IF(LEN(B23&"")=0,"",IF(NOT(ISNUMBER(B23)),"عدد نامعتبر",IF(OR(B23<0,B23>999999999999999,B23<>INT(B23)),"عدد صحیح ۰ تا ۱۵ رقم وارد کنید",IF(INT(B23)=0,"صفر",MID(IF(MOD(INT((B23)/1000000000000),1000)>0," و "&VLOOKUP(MOD(INT((B23)/1000000000000),1000),'واژه‌ها'!$A$2:$B$1001,2,0)&" تریلیون","")&IF(MOD(INT((B23)/1000000000),1000)>0," و "&VLOOKUP(MOD(INT((B23)/1000000000),1000),'واژه‌ها'!$A$2:$B$1001,2,0)&" میلیارد","")&IF(MOD(INT((B23)/1000000),1000)>0," و "&VLOOKUP(MOD(INT((B23)/1000000),1000),'واژه‌ها'!$A$2:$B$1001,2,0)&" میلیون","")&IF(MOD(INT((B23)/1000),1000)>0," و "&VLOOKUP(MOD(INT((B23)/1000),1000),'واژه‌ها'!$A$2:$B$1001,2,0)&" هزار","")&IF(MOD(INT((B23)/1),1000)>0," و "&VLOOKUP(MOD(INT((B23)/1),1000),'واژه‌ها'!$A$2:$B$1001,2,0)&"",""),4,1000)))))
A24: 16 | C24: =IF(LEN(B24&"")=0,"",IF(NOT(ISNUMBER(B24)),"عدد نامعتبر",IF(OR(B24<0,B24>999999999999999,B24<>INT(B24)),"عدد صحیح ۰ تا ۱۵ رقم وارد کنید",IF(INT(B24)=0,"صفر",MID(IF(MOD(INT((B24)/1000000000000),1000)>0," و "&VLOOKUP(MOD(INT((B24)/1000000000000),1000),'واژه‌ها'!$A$2:$B$1001,2,0)&" تریلیون","")&IF(MOD(INT((B24)/1000000000),1000)>0," و "&VLOOKUP(MOD(INT((B24)/1000000000),1000),'واژه‌ها'!$A$2:$B$1001,2,0)&" میلیارد","")&IF(MOD(INT((B24)/1000000),1000)>0," و "&VLOOKUP(MOD(INT((B24)/1000000),1000),'واژه‌ها'!$A$2:$B$1001,2,0)&" میلیون","")&IF(MOD(INT((B24)/1000),1000)>0," و "&VLOOKUP(MOD(INT((B24)/1000),1000),'واژه‌ها'!$A$2:$B$1001,2,0)&" هزار","")&IF(MOD(INT((B24)/1),1000)>0," و "&VLOOKUP(MOD(INT((B24)/1),1000),'واژه‌ها'!$A$2:$B$1001,2,0)&"",""),4,1000)))))
A25: 17 | C25: =IF(LEN(B25&"")=0,"",IF(NOT(ISNUMBER(B25)),"عدد نامعتبر",IF(OR(B25<0,B25>999999999999999,B25<>INT(B25)),"عدد صحیح ۰ تا ۱۵ رقم وارد کنید",IF(INT(B25)=0,"صفر",MID(IF(MOD(INT((B25)/1000000000000),1000)>0," و "&VLOOKUP(MOD(INT((B25)/1000000000000),1000),'واژه‌ها'!$A$2:$B$1001,2,0)&" تریلیون","")&IF(MOD(INT((B25)/1000000000),1000)>0," و "&VLOOKUP(MOD(INT((B25)/1000000000),1000),'واژه‌ها'!$A$2:$B$1001,2,0)&" میلیارد","")&IF(MOD(INT((B25)/1000000),1000)>0," و "&VLOOKUP(MOD(INT((B25)/1000000),1000),'واژه‌ها'!$A$2:$B$1001,2,0)&" میلیون","")&IF(MOD(INT((B25)/1000),1000)>0," و "&VLOOKUP(MOD(INT((B25)/1000),1000),'واژه‌ها'!$A$2:$B$1001,2,0)&" هزار","")&IF(MOD(INT((B25)/1),1000)>0," و "&VLOOKUP(MOD(INT((B25)/1),1000),'واژه‌ها'!$A$2:$B$1001,2,0)&"",""),4,1000)))))
A26: 18 | C26: =IF(LEN(B26&"")=0,"",IF(NOT(ISNUMBER(B26)),"عدد نامعتبر",IF(OR(B26<0,B26>999999999999999,B26<>INT(B26)),"عدد صحیح ۰ تا ۱۵ رقم وارد کنید",IF(INT(B26)=0,"صفر",MID(IF(MOD(INT((B26)/1000000000000),1000)>0," و "&VLOOKUP(MOD(INT((B26)/1000000000000),1000),'واژه‌ها'!$A$2:$B$1001,2,0)&" تریلیون","")&IF(MOD(INT((B26)/1000000000),1000)>0," و "&VLOOKUP(MOD(INT((B26)/1000000000),1000),'واژه‌ها'!$A$2:$B$1001,2,0)&" میلیارد","")&IF(MOD(INT((B26)/1000000),1000)>0," و "&VLOOKUP(MOD(INT((B26)/1000000),1000),'واژه‌ها'!$A$2:$B$1001,2,0)&" میلیون","")&IF(MOD(INT((B26)/1000),1000)>0," و "&VLOOKUP(MOD(INT((B26)/1000),1000),'واژه‌ها'!$A$2:$B$1001,2,0)&" هزار","")&IF(MOD(INT((B26)/1),1000)>0," و "&VLOOKUP(MOD(INT((B26)/1),1000),'واژه‌ها'!$A$2:$B$1001,2,0)&"",""),4,1000)))))
... A28: 20 | C28: =IF(LEN(B28&"")=0,"",IF(NOT(ISNUMBER(B28)),"عدد نامعتبر",IF(OR(B28<0,B28>999999999999999,B28<>INT(B28)),"عدد صحیح ۰ تا ۱۵ رقم وارد کنید",IF(INT(B28)=0,"صفر",MID(IF(MOD(INT((B28)/1000000000000),1000)>0," و "&VLOOKUP(MOD(INT((B28)/1000000000000),1000),'واژه‌ها'!$A$2:$B$1001,2,0)&" تریلیون","")&IF(MOD(INT((B28)/1000000000),1000)>0," و "&VLOOKUP(MOD(INT((B28)/1000000000),1000),'واژه‌ها'!$A$2:$B$1001,2,0)&" میلیارد","")&IF(MOD(INT((B28)/1000000),1000)>0," و "&VLOOKUP(MOD(INT((B28)/1000000),1000),'واژه‌ها'!$A$2:$B$1001,2,0)&" میلیون","")&IF(MOD(INT((B28)/1000),1000)>0," و "&VLOOKUP(MOD(INT((B28)/1000),1000),'واژه‌ها'!$A$2:$B$1001,2,0)&" هزار","")&IF(MOD(INT((B28)/1),1000)>0," و "&VLOOKUP(MOD(INT((B28)/1),1000),'واژه‌ها'!$A$2:$B$1001,2,0)&"",""),4,1000)))))
A31: تهیه‌شده در hrfinance.xyz
A32: نسخهٔ آنلاین: تبدیل عدد به حروف

Sheet واژه‌ها
A1: عدد | B1: به حروف
A2: 0
A3: 1 | B3: یک
A4: 2 | B4: دو
A5: 3 | B5: سه
A6: 4 | B6: چهار
A7: 5 | B7: پنج
A8: 6 | B8: شش
A9: 7 | B9: هفت
A10: 8 | B10: هشت
A11: 9 | B11: نه
A12: 10 | B12: ده
A13: 11 | B13: یازده
A14: 12 | B14: دوازده
... A1001: 999 | B1001: نهصد و نود و نه
